BEGIN:VCALENDAR
VERSION:2.0
PRODID:-//AudioTheme 1.6.3
BEGIN:VEVENT
UID:https://matthewmccright.org/?post_type=audiotheme_gig&#038;p=573
URL:https://matthewmccright.org/performances/gig-performance-with-adam-kuenzel-flute/
DTSTART;TZID=GMT:20150131T000000
SUMMARY:Performance with Adam Kuenzel, Flute
DESCRIPTION:Performance with Adam Kuenzel  and Greg Milliren (MN Orch) for Upper Midwest Flute Association Marathon
END:VEVENT
END:VCALENDAR