BEGIN:VCALENDAR
VERSION:2.0
PRODID:-//AudioTheme 1.6.3
BEGIN:VEVENT
UID:https://matthewmccright.org/?post_type=audiotheme_gig&#038;p=562
URL:https://matthewmccright.org/performances/gig-solo-concert-music-of-messiaen-boulez-and-new-work-by-stephen-barr/
DTSTART;TZID=GMT:20150428T000000
SUMMARY:Solo Concert: Music of Messiaen, Haydn, and New Work by Stephen Barr
DESCRIPTION:Solo Concert: Music of Messiaen\, Haydn\, and New Work by Stephen Barr
END:VEVENT
END:VCALENDAR