BEGIN:VCALENDAR
VERSION:2.0
PRODID:-//AudioTheme 1.6.3
BEGIN:VEVENT
UID:https://matthewmccright.org/?post_type=audiotheme_gig&#038;p=607
URL:https://matthewmccright.org/performances/gig-umfa-flute-festival/
DTSTART;TZID=GMT:20150425T000000
SUMMARY:UMFA Flute Festival
DESCRIPTION:UMFA Flute Festival\, appearance with Linda Chatterton and Paula Gudmundson
END:VEVENT
END:VCALENDAR