BEGIN:VCALENDAR
VERSION:2.0
PRODID:-//AudioTheme 1.6.3
BEGIN:VEVENT
UID:https://matthewmccright.org/?post_type=audiotheme_gig&#038;p=729
URL:https://matthewmccright.org/performances/minnesota-vintage-band-festival/
DTSTART;TZID=GMT:20160801T003000
SUMMARY:Minnesota Vintage Band Festival
LOCATION:Grand Theater of Northfield\, MN
END:VEVENT
END:VCALENDAR